BEGIN:VCALENDAR
VERSION:2.0
PRODID:-//Mount Olivet - ECPv6.15.14//NONSGML v1.0//EN
CALSCALE:GREGORIAN
METHOD:PUBLISH
X-WR-CALNAME:Mount Olivet
X-ORIGINAL-URL:https://mtolivet.org
X-WR-CALDESC:Events for Mount Olivet
REFRESH-INTERVAL;VALUE=DURATION:PT1H
X-Robots-Tag:noindex
X-PUBLISHED-TTL:PT1H
BEGIN:VTIMEZONE
TZID:America/Chicago
BEGIN:DAYLIGHT
TZOFFSETFROM:-0600
TZOFFSETTO:-0500
TZNAME:CDT
DTSTART:20240310T080000
END:DAYLIGHT
BEGIN:STANDARD
TZOFFSETFROM:-0500
TZOFFSETTO:-0600
TZNAME:CST
DTSTART:20241103T070000
END:STANDARD
BEGIN:DAYLIGHT
TZOFFSETFROM:-0600
TZOFFSETTO:-0500
TZNAME:CDT
DTSTART:20250309T080000
END:DAYLIGHT
BEGIN:STANDARD
TZOFFSETFROM:-0500
TZOFFSETTO:-0600
TZNAME:CST
DTSTART:20251102T070000
END:STANDARD
BEGIN:DAYLIGHT
TZOFFSETFROM:-0600
TZOFFSETTO:-0500
TZNAME:CDT
DTSTART:20260308T080000
END:DAYLIGHT
BEGIN:STANDARD
TZOFFSETFROM:-0500
TZOFFSETTO:-0600
TZNAME:CST
DTSTART:20261101T070000
END:STANDARD
END:VTIMEZONE
BEGIN:VEVENT
DTSTART;TZID=America/Chicago:20251102T190000
DTEND;TZID=America/Chicago:20251102T200000
DTSTAMP:20260422T044809
CREATED:20250625T195301Z
LAST-MODIFIED:20250625T195301Z
UID:10001352-1762110000-1762113600@mtolivet.org
SUMMARY:Hi-League Bonfire & Hootenanny
DESCRIPTION:Join us for a Bonfire and Hootenanny- just like COP! \n 
URL:https://mtolivet.org/event/hi-league-bonfire-hootenanny/
LOCATION:Minneapolis Campus\, 5025 Knox Avenue South\, Minneapolis\, Minnesota\, 55419
CATEGORIES:Youth (Grades 9-12)
ATTACH;FMTTYPE=image/png:https://mtolivet.org/wp-content/uploads/2023/01/Hi-League.png
GEO:44.9116556;-93.3019923
X-APPLE-STRUCTURED-LOCATION;VALUE=URI;X-ADDRESS=Minneapolis Campus 5025 Knox Avenue South Minneapolis Minnesota 55419;X-APPLE-RADIUS=500;X-TITLE=5025 Knox Avenue South:geo:-93.3019923,44.9116556
END:VEVENT
BEGIN:VEVENT
DTSTART;TZID=America/Chicago:20251105T190000
DTEND;TZID=America/Chicago:20251105T201500
DTSTAMP:20260422T044809
CREATED:20250708T210027Z
LAST-MODIFIED:20250708T210311Z
UID:10001878-1762369200-1762373700@mtolivet.org
SUMMARY:Cathedral Choir Rehearsal
DESCRIPTION:High school-age singers from many different schools and musical backgrounds join together each week to sing and serve in this special choir that adds youthful energy to our worship services. Cathedral Choir is a musical experience that helps adolescents develop and enrich their own individual faith story.
URL:https://mtolivet.org/event/cathedral-choir-rehearsal/2025-11-05/
LOCATION:Minneapolis Campus\, 5025 Knox Avenue South\, Minneapolis\, Minnesota\, 55419
CATEGORIES:Music & Art,Youth (Grades 9-12)
ATTACH;FMTTYPE=image/png:https://mtolivet.org/wp-content/uploads/2025/05/Cathedral-Choir-Square_NEW-scaled.png
GEO:44.9116556;-93.3019923
X-APPLE-STRUCTURED-LOCATION;VALUE=URI;X-ADDRESS=Minneapolis Campus 5025 Knox Avenue South Minneapolis Minnesota 55419;X-APPLE-RADIUS=500;X-TITLE=5025 Knox Avenue South:geo:-93.3019923,44.9116556
END:VEVENT
BEGIN:VEVENT
DTSTART;TZID=America/Chicago:20251109T190000
DTEND;TZID=America/Chicago:20251109T203000
DTSTAMP:20260422T044809
CREATED:20240830T211313Z
LAST-MODIFIED:20250625T195354Z
UID:10001023-1762714800-1762720200@mtolivet.org
SUMMARY:Hi-League Sharegroup
DESCRIPTION:Sharegroups are a great way to build our church community. Each Sharegroup will feature a large group speaker\, small group time\, devotions\, and a snack! \nTransportation will be available from the West Campus.
URL:https://mtolivet.org/event/hi-league-sharegroup/
LOCATION:Minneapolis Campus\, 5025 Knox Avenue South\, Minneapolis\, Minnesota\, 55419
CATEGORIES:Youth (Grades 9-12)
ATTACH;FMTTYPE=image/png:https://mtolivet.org/wp-content/uploads/2023/01/Hi-League.png
GEO:44.9116556;-93.3019923
X-APPLE-STRUCTURED-LOCATION;VALUE=URI;X-ADDRESS=Minneapolis Campus 5025 Knox Avenue South Minneapolis Minnesota 55419;X-APPLE-RADIUS=500;X-TITLE=5025 Knox Avenue South:geo:-93.3019923,44.9116556
END:VEVENT
BEGIN:VEVENT
DTSTART;TZID=America/Chicago:20251112T190000
DTEND;TZID=America/Chicago:20251112T201500
DTSTAMP:20260422T044809
CREATED:20250708T210027Z
LAST-MODIFIED:20250708T210311Z
UID:10001879-1762974000-1762978500@mtolivet.org
SUMMARY:Cathedral Choir Rehearsal
DESCRIPTION:High school-age singers from many different schools and musical backgrounds join together each week to sing and serve in this special choir that adds youthful energy to our worship services. Cathedral Choir is a musical experience that helps adolescents develop and enrich their own individual faith story.
URL:https://mtolivet.org/event/cathedral-choir-rehearsal/2025-11-12/
LOCATION:Minneapolis Campus\, 5025 Knox Avenue South\, Minneapolis\, Minnesota\, 55419
CATEGORIES:Music & Art,Youth (Grades 9-12)
ATTACH;FMTTYPE=image/png:https://mtolivet.org/wp-content/uploads/2025/05/Cathedral-Choir-Square_NEW-scaled.png
GEO:44.9116556;-93.3019923
X-APPLE-STRUCTURED-LOCATION;VALUE=URI;X-ADDRESS=Minneapolis Campus 5025 Knox Avenue South Minneapolis Minnesota 55419;X-APPLE-RADIUS=500;X-TITLE=5025 Knox Avenue South:geo:-93.3019923,44.9116556
END:VEVENT
BEGIN:VEVENT
DTSTART;TZID=America/Chicago:20251116T190000
DTEND;TZID=America/Chicago:20251116T200000
DTSTAMP:20260422T044809
CREATED:20240830T210918Z
LAST-MODIFIED:20250625T195434Z
UID:10001020-1763319600-1763323200@mtolivet.org
SUMMARY:Hi-League Church Friendsgiving
DESCRIPTION:Come to church for a thanksgiving celebration with all your church friends!!
URL:https://mtolivet.org/event/hi-league-church-friendsgiving/
LOCATION:Minneapolis & West Campus
CATEGORIES:Youth (Grades 9-12)
ATTACH;FMTTYPE=image/png:https://mtolivet.org/wp-content/uploads/2023/01/Hi-League.png
END:VEVENT
BEGIN:VEVENT
DTSTART;TZID=America/Chicago:20251119T190000
DTEND;TZID=America/Chicago:20251119T201500
DTSTAMP:20260422T044809
CREATED:20250708T210027Z
LAST-MODIFIED:20250708T210311Z
UID:10001880-1763578800-1763583300@mtolivet.org
SUMMARY:Cathedral Choir Rehearsal
DESCRIPTION:High school-age singers from many different schools and musical backgrounds join together each week to sing and serve in this special choir that adds youthful energy to our worship services. Cathedral Choir is a musical experience that helps adolescents develop and enrich their own individual faith story.
URL:https://mtolivet.org/event/cathedral-choir-rehearsal/2025-11-19/
LOCATION:Minneapolis Campus\, 5025 Knox Avenue South\, Minneapolis\, Minnesota\, 55419
CATEGORIES:Music & Art,Youth (Grades 9-12)
ATTACH;FMTTYPE=image/png:https://mtolivet.org/wp-content/uploads/2025/05/Cathedral-Choir-Square_NEW-scaled.png
GEO:44.9116556;-93.3019923
X-APPLE-STRUCTURED-LOCATION;VALUE=URI;X-ADDRESS=Minneapolis Campus 5025 Knox Avenue South Minneapolis Minnesota 55419;X-APPLE-RADIUS=500;X-TITLE=5025 Knox Avenue South:geo:-93.3019923,44.9116556
END:VEVENT
BEGIN:VEVENT
DTSTART;TZID=America/Chicago:20251123T190000
DTEND;TZID=America/Chicago:20251123T203000
DTSTAMP:20260422T044809
CREATED:20240830T211552Z
LAST-MODIFIED:20250625T195452Z
UID:10001026-1763924400-1763929800@mtolivet.org
SUMMARY:Hi-League Sharegroup
DESCRIPTION:Sharegroups are a great way to build our church community. Each Sharegroup will feature a large group speaker\, small group time\, devotions\, and a snack! \nTransportation will be available from the West Campus.
URL:https://mtolivet.org/event/hi-league-sharegroup-2/
LOCATION:Minneapolis Campus\, 5025 Knox Avenue South\, Minneapolis\, Minnesota\, 55419
CATEGORIES:Youth (Grades 9-12)
ATTACH;FMTTYPE=image/png:https://mtolivet.org/wp-content/uploads/2023/01/Hi-League.png
GEO:44.9116556;-93.3019923
X-APPLE-STRUCTURED-LOCATION;VALUE=URI;X-ADDRESS=Minneapolis Campus 5025 Knox Avenue South Minneapolis Minnesota 55419;X-APPLE-RADIUS=500;X-TITLE=5025 Knox Avenue South:geo:-93.3019923,44.9116556
END:VEVENT
END:VCALENDAR