BEGIN:VCALENDAR
VERSION:2.0
PRODID:-//Mount Olivet - ECPv6.15.14//NONSGML v1.0//EN
CALSCALE:GREGORIAN
METHOD:PUBLISH
X-ORIGINAL-URL:https://mtolivet.org
X-WR-CALDESC:Events for Mount Olivet
REFRESH-INTERVAL;VALUE=DURATION:PT1H
X-Robots-Tag:noindex
X-PUBLISHED-TTL:PT1H
BEGIN:VTIMEZONE
TZID:America/Chicago
BEGIN:DAYLIGHT
TZOFFSETFROM:-0600
TZOFFSETTO:-0500
TZNAME:CDT
DTSTART:20240310T080000
END:DAYLIGHT
BEGIN:STANDARD
TZOFFSETFROM:-0500
TZOFFSETTO:-0600
TZNAME:CST
DTSTART:20241103T070000
END:STANDARD
BEGIN:DAYLIGHT
TZOFFSETFROM:-0600
TZOFFSETTO:-0500
TZNAME:CDT
DTSTART:20250309T080000
END:DAYLIGHT
BEGIN:STANDARD
TZOFFSETFROM:-0500
TZOFFSETTO:-0600
TZNAME:CST
DTSTART:20251102T070000
END:STANDARD
BEGIN:DAYLIGHT
TZOFFSETFROM:-0600
TZOFFSETTO:-0500
TZNAME:CDT
DTSTART:20260308T080000
END:DAYLIGHT
BEGIN:STANDARD
TZOFFSETFROM:-0500
TZOFFSETTO:-0600
TZNAME:CST
DTSTART:20261101T070000
END:STANDARD
END:VTIMEZONE
BEGIN:VEVENT
DTSTART;TZID=America/Chicago:20251001T190000
DTEND;TZID=America/Chicago:20251001T201500
DTSTAMP:20260422T061911
CREATED:20250708T210027Z
LAST-MODIFIED:20250708T210311Z
UID:10001874-1759345200-1759349700@mtolivet.org
SUMMARY:Cathedral Choir Rehearsal
DESCRIPTION:High school-age singers from many different schools and musical backgrounds join together each week to sing and serve in this special choir that adds youthful energy to our worship services. Cathedral Choir is a musical experience that helps adolescents develop and enrich their own individual faith story.
URL:https://mtolivet.org/event/cathedral-choir-rehearsal/2025-10-01/
LOCATION:Minneapolis Campus\, 5025 Knox Avenue South\, Minneapolis\, Minnesota\, 55419
CATEGORIES:Music & Art,Youth (Grades 9-12)
ATTACH;FMTTYPE=image/png:https://mtolivet.org/wp-content/uploads/2025/05/Cathedral-Choir-Square_NEW-scaled.png
GEO:44.9116556;-93.3019923
X-APPLE-STRUCTURED-LOCATION;VALUE=URI;X-ADDRESS=Minneapolis Campus 5025 Knox Avenue South Minneapolis Minnesota 55419;X-APPLE-RADIUS=500;X-TITLE=5025 Knox Avenue South:geo:-93.3019923,44.9116556
END:VEVENT
BEGIN:VEVENT
DTSTART;TZID=America/Chicago:20251005T140000
DTEND;TZID=America/Chicago:20251005T180000
DTSTAMP:20260422T061911
CREATED:20240830T205914Z
LAST-MODIFIED:20250625T195023Z
UID:10000946-1759672800-1759687200@mtolivet.org
SUMMARY:Hi-League Hayride
DESCRIPTION:We will travel together to Minnesota harvest in Jordan\, MN to enjoy a nice fall afternoon of apple picking\, fall festival attractions and a hayride! After our time at the Apple Orchard we will go to the big yellow candy store! Make sure to bring extra money for shopping at the candy store.
URL:https://mtolivet.org/event/hi-league-candy-store-hayride/
LOCATION:Minneapolis & West Campus
CATEGORIES:Youth (Grades 9-12)
ATTACH;FMTTYPE=image/png:https://mtolivet.org/wp-content/uploads/2023/01/Hi-League.png
END:VEVENT
BEGIN:VEVENT
DTSTART;TZID=America/Chicago:20251008T190000
DTEND;TZID=America/Chicago:20251008T201500
DTSTAMP:20260422T061911
CREATED:20250708T210027Z
LAST-MODIFIED:20250708T210311Z
UID:10001875-1759950000-1759954500@mtolivet.org
SUMMARY:Cathedral Choir Rehearsal
DESCRIPTION:High school-age singers from many different schools and musical backgrounds join together each week to sing and serve in this special choir that adds youthful energy to our worship services. Cathedral Choir is a musical experience that helps adolescents develop and enrich their own individual faith story.
URL:https://mtolivet.org/event/cathedral-choir-rehearsal/2025-10-08/
LOCATION:Minneapolis Campus\, 5025 Knox Avenue South\, Minneapolis\, Minnesota\, 55419
CATEGORIES:Music & Art,Youth (Grades 9-12)
ATTACH;FMTTYPE=image/png:https://mtolivet.org/wp-content/uploads/2025/05/Cathedral-Choir-Square_NEW-scaled.png
GEO:44.9116556;-93.3019923
X-APPLE-STRUCTURED-LOCATION;VALUE=URI;X-ADDRESS=Minneapolis Campus 5025 Knox Avenue South Minneapolis Minnesota 55419;X-APPLE-RADIUS=500;X-TITLE=5025 Knox Avenue South:geo:-93.3019923,44.9116556
END:VEVENT
BEGIN:VEVENT
DTSTART;TZID=America/Chicago:20251012T130000
DTEND;TZID=America/Chicago:20251012T150000
DTSTAMP:20260422T061911
CREATED:20240830T210240Z
LAST-MODIFIED:20250625T195811Z
UID:10001012-1760274000-1760281200@mtolivet.org
SUMMARY:Cathedral Choir Pumpkin Patch Unloading
DESCRIPTION:The Pumpkin Patch supports our Cathedral Choir and is a staple community event every October for our South Minneapolis neighborhood. We need all Cathedral Choir members and any family or friends that are willing to help onload our semi-truck. The bigger group we have unloading the faster we will get the Patch up. Please review the available slots below and click on the button to sign up. Thank you!
URL:https://mtolivet.org/event/cathedral-choir-pumpkin-patch-unloading/
LOCATION:1700 Chapel
CATEGORIES:Youth (Grades 9-12)
ATTACH;FMTTYPE=image/png:https://mtolivet.org/wp-content/uploads/2022/09/Pumpkin-patch-unload.png
END:VEVENT
BEGIN:VEVENT
DTSTART;TZID=America/Chicago:20251016T160000
DTEND;TZID=America/Chicago:20251019T160000
DTSTAMP:20260422T061911
CREATED:20220927T201746Z
LAST-MODIFIED:20250625T195100Z
UID:10000875-1760630400-1760889600@mtolivet.org
SUMMARY:Hi-League Fall Camp
DESCRIPTION:One of the funniest weekends of your life!! This weekend is filled with camp softball\, hikes\, devotions\, and lunch in Duluth of the way to camp! \nTransportation is from the Mpls Campus. Please contact Kris Ericksen at krise@mtolivet.org with questions about registration
URL:https://mtolivet.org/event/hi-league-fall-camp/
LOCATION:Cathedral of the Pines\, 760 Caribou Trail\, Lutsen\, MN\, 55612\, United States
CATEGORIES:Youth (Grades 9-12)
ATTACH;FMTTYPE=image/png:https://mtolivet.org/wp-content/uploads/2022/08/LOGO-COP-Vertical-CMYK.png
GEO:47.6967428;-90.6625432
X-APPLE-STRUCTURED-LOCATION;VALUE=URI;X-ADDRESS=Cathedral of the Pines 760 Caribou Trail Lutsen MN 55612 United States;X-APPLE-RADIUS=500;X-TITLE=760 Caribou Trail:geo:-90.6625432,47.6967428
END:VEVENT
BEGIN:VEVENT
DTSTART;TZID=America/Chicago:20251022T190000
DTEND;TZID=America/Chicago:20251022T201500
DTSTAMP:20260422T061911
CREATED:20250708T210027Z
LAST-MODIFIED:20250708T210311Z
UID:10001876-1761159600-1761164100@mtolivet.org
SUMMARY:Cathedral Choir Rehearsal
DESCRIPTION:High school-age singers from many different schools and musical backgrounds join together each week to sing and serve in this special choir that adds youthful energy to our worship services. Cathedral Choir is a musical experience that helps adolescents develop and enrich their own individual faith story.
URL:https://mtolivet.org/event/cathedral-choir-rehearsal/2025-10-22/
LOCATION:Minneapolis Campus\, 5025 Knox Avenue South\, Minneapolis\, Minnesota\, 55419
CATEGORIES:Music & Art,Youth (Grades 9-12)
ATTACH;FMTTYPE=image/png:https://mtolivet.org/wp-content/uploads/2025/05/Cathedral-Choir-Square_NEW-scaled.png
GEO:44.9116556;-93.3019923
X-APPLE-STRUCTURED-LOCATION;VALUE=URI;X-ADDRESS=Minneapolis Campus 5025 Knox Avenue South Minneapolis Minnesota 55419;X-APPLE-RADIUS=500;X-TITLE=5025 Knox Avenue South:geo:-93.3019923,44.9116556
END:VEVENT
BEGIN:VEVENT
DTSTART;TZID=America/Chicago:20251025T100000
DTEND;TZID=America/Chicago:20251025T120000
DTSTAMP:20260422T061911
CREATED:20220728T155343Z
LAST-MODIFIED:20250825T170423Z
UID:10000862-1761386400-1761393600@mtolivet.org
SUMMARY:Party at the Pumpkin Patch!
DESCRIPTION:It’s a party and you’re invited! Join us at the Pumpkin Patch for a morning of fun – treats\, a bounce house\, and more! Don’t forget to pick-up a pumpkin from the pumpkin patch to support the Cathedral Choir.
URL:https://mtolivet.org/event/party-at-the-pumpkin-patch/
LOCATION:1700 Chapel
CATEGORIES:Children & Family (Birth-Grade 5),Youth (Grades 6-8),Youth (Grades 9-12)
ATTACH;FMTTYPE=image/png:https://mtolivet.org/wp-content/uploads/2022/07/2025-Party-at-the-Patch-Square.png
END:VEVENT
BEGIN:VEVENT
DTSTART;TZID=America/Chicago:20251026T190000
DTEND;TZID=America/Chicago:20251026T203000
DTSTAMP:20260422T061911
CREATED:20240830T210526Z
LAST-MODIFIED:20250625T195139Z
UID:10001013-1761505200-1761510600@mtolivet.org
SUMMARY:Hi-League Sharegroup
DESCRIPTION:Sharegroups are a great way to build our church community. Each Sharegroup will feature a large group speaker\, small group time\, devotions\, and a snack! Sharegroups will be held at the Minneapolis Campus. We meet once a month from October – March. We will start our Sharegroup nights in the Minneapolis Fellowship Hall. \nIf you are looking for transportation from the West Campus please register and then reach out to Julia Jallo at jjallo@mtolivet.org for more information.
URL:https://mtolivet.org/event/hi-league-sharegroup-3/
LOCATION:Minneapolis Campus\, 5025 Knox Avenue South\, Minneapolis\, Minnesota\, 55419
CATEGORIES:Youth (Grades 9-12)
ATTACH;FMTTYPE=image/png:https://mtolivet.org/wp-content/uploads/2023/01/Hi-League.png
GEO:44.9116556;-93.3019923
X-APPLE-STRUCTURED-LOCATION;VALUE=URI;X-ADDRESS=Minneapolis Campus 5025 Knox Avenue South Minneapolis Minnesota 55419;X-APPLE-RADIUS=500;X-TITLE=5025 Knox Avenue South:geo:-93.3019923,44.9116556
END:VEVENT
BEGIN:VEVENT
DTSTART;TZID=America/Chicago:20251029T190000
DTEND;TZID=America/Chicago:20251029T201500
DTSTAMP:20260422T061911
CREATED:20250708T210027Z
LAST-MODIFIED:20250708T210311Z
UID:10001877-1761764400-1761768900@mtolivet.org
SUMMARY:Cathedral Choir Rehearsal
DESCRIPTION:High school-age singers from many different schools and musical backgrounds join together each week to sing and serve in this special choir that adds youthful energy to our worship services. Cathedral Choir is a musical experience that helps adolescents develop and enrich their own individual faith story.
URL:https://mtolivet.org/event/cathedral-choir-rehearsal/2025-10-29/
LOCATION:Minneapolis Campus\, 5025 Knox Avenue South\, Minneapolis\, Minnesota\, 55419
CATEGORIES:Music & Art,Youth (Grades 9-12)
ATTACH;FMTTYPE=image/png:https://mtolivet.org/wp-content/uploads/2025/05/Cathedral-Choir-Square_NEW-scaled.png
GEO:44.9116556;-93.3019923
X-APPLE-STRUCTURED-LOCATION;VALUE=URI;X-ADDRESS=Minneapolis Campus 5025 Knox Avenue South Minneapolis Minnesota 55419;X-APPLE-RADIUS=500;X-TITLE=5025 Knox Avenue South:geo:-93.3019923,44.9116556
END:VEVENT
END:VCALENDAR