BEGIN:VCALENDAR
VERSION:2.0
PRODID:-//Mount Olivet - ECPv6.15.14//NONSGML v1.0//EN
CALSCALE:GREGORIAN
METHOD:PUBLISH
X-ORIGINAL-URL:https://mtolivet.org
X-WR-CALDESC:Events for Mount Olivet
REFRESH-INTERVAL;VALUE=DURATION:PT1H
X-Robots-Tag:noindex
X-PUBLISHED-TTL:PT1H
BEGIN:VTIMEZONE
TZID:America/Chicago
BEGIN:DAYLIGHT
TZOFFSETFROM:-0600
TZOFFSETTO:-0500
TZNAME:CDT
DTSTART:20240310T080000
END:DAYLIGHT
BEGIN:STANDARD
TZOFFSETFROM:-0500
TZOFFSETTO:-0600
TZNAME:CST
DTSTART:20241103T070000
END:STANDARD
BEGIN:DAYLIGHT
TZOFFSETFROM:-0600
TZOFFSETTO:-0500
TZNAME:CDT
DTSTART:20250309T080000
END:DAYLIGHT
BEGIN:STANDARD
TZOFFSETFROM:-0500
TZOFFSETTO:-0600
TZNAME:CST
DTSTART:20251102T070000
END:STANDARD
BEGIN:DAYLIGHT
TZOFFSETFROM:-0600
TZOFFSETTO:-0500
TZNAME:CDT
DTSTART:20260308T080000
END:DAYLIGHT
BEGIN:STANDARD
TZOFFSETFROM:-0500
TZOFFSETTO:-0600
TZNAME:CST
DTSTART:20261101T070000
END:STANDARD
END:VTIMEZONE
BEGIN:VEVENT
DTSTART;TZID=America/Chicago:20250903T190000
DTEND;TZID=America/Chicago:20250903T201500
DTSTAMP:20260422T073401
CREATED:20250708T210027Z
LAST-MODIFIED:20250708T210311Z
UID:10001870-1756926000-1756930500@mtolivet.org
SUMMARY:Cathedral Choir Rehearsal
DESCRIPTION:High school-age singers from many different schools and musical backgrounds join together each week to sing and serve in this special choir that adds youthful energy to our worship services. Cathedral Choir is a musical experience that helps adolescents develop and enrich their own individual faith story.
URL:https://mtolivet.org/event/cathedral-choir-rehearsal/2025-09-03/
LOCATION:Minneapolis Campus\, 5025 Knox Avenue South\, Minneapolis\, Minnesota\, 55419
CATEGORIES:Music & Art,Youth (Grades 9-12)
ATTACH;FMTTYPE=image/png:https://mtolivet.org/wp-content/uploads/2025/05/Cathedral-Choir-Square_NEW-scaled.png
GEO:44.9116556;-93.3019923
X-APPLE-STRUCTURED-LOCATION;VALUE=URI;X-ADDRESS=Minneapolis Campus 5025 Knox Avenue South Minneapolis Minnesota 55419;X-APPLE-RADIUS=500;X-TITLE=5025 Knox Avenue South:geo:-93.3019923,44.9116556
END:VEVENT
BEGIN:VEVENT
DTSTART;TZID=America/Chicago:20250907T190000
DTEND;TZID=America/Chicago:20250907T200000
DTSTAMP:20260422T073401
CREATED:20230822T210030Z
LAST-MODIFIED:20250625T194849Z
UID:10001035-1757271600-1757275200@mtolivet.org
SUMMARY:Hi-League Kick-Off
DESCRIPTION:A time for a homecoming celebration to kick-off our fun year at Hi-League! Lawn games\, music\, service\, dunk tank\, snacks\, COP slideshow\, and a devotion! Transportation provided from the Mpls Campus.
URL:https://mtolivet.org/event/hi-league-kick-off/
LOCATION:West Campus\, 7150 Rolling Acres Road\, Victoria\, Minnesota\, 55386
CATEGORIES:Youth (Grades 9-12)
ATTACH;FMTTYPE=image/png:https://mtolivet.org/wp-content/uploads/2023/01/Hi-League.png
GEO:44.8763766;-93.6426023
X-APPLE-STRUCTURED-LOCATION;VALUE=URI;X-ADDRESS=West Campus 7150 Rolling Acres Road Victoria Minnesota 55386;X-APPLE-RADIUS=500;X-TITLE=7150 Rolling Acres Road:geo:-93.6426023,44.8763766
END:VEVENT
BEGIN:VEVENT
DTSTART;TZID=America/Chicago:20250910T190000
DTEND;TZID=America/Chicago:20250910T201500
DTSTAMP:20260422T073401
CREATED:20250708T210027Z
LAST-MODIFIED:20250708T210311Z
UID:10001871-1757530800-1757535300@mtolivet.org
SUMMARY:Cathedral Choir Rehearsal
DESCRIPTION:High school-age singers from many different schools and musical backgrounds join together each week to sing and serve in this special choir that adds youthful energy to our worship services. Cathedral Choir is a musical experience that helps adolescents develop and enrich their own individual faith story.
URL:https://mtolivet.org/event/cathedral-choir-rehearsal/2025-09-10/
LOCATION:Minneapolis Campus\, 5025 Knox Avenue South\, Minneapolis\, Minnesota\, 55419
CATEGORIES:Music & Art,Youth (Grades 9-12)
ATTACH;FMTTYPE=image/png:https://mtolivet.org/wp-content/uploads/2025/05/Cathedral-Choir-Square_NEW-scaled.png
GEO:44.9116556;-93.3019923
X-APPLE-STRUCTURED-LOCATION;VALUE=URI;X-ADDRESS=Minneapolis Campus 5025 Knox Avenue South Minneapolis Minnesota 55419;X-APPLE-RADIUS=500;X-TITLE=5025 Knox Avenue South:geo:-93.3019923,44.9116556
END:VEVENT
BEGIN:VEVENT
DTSTART;TZID=America/Chicago:20250917T190000
DTEND;TZID=America/Chicago:20250917T201500
DTSTAMP:20260422T073401
CREATED:20250708T210027Z
LAST-MODIFIED:20250708T210311Z
UID:10001872-1758135600-1758140100@mtolivet.org
SUMMARY:Cathedral Choir Rehearsal
DESCRIPTION:High school-age singers from many different schools and musical backgrounds join together each week to sing and serve in this special choir that adds youthful energy to our worship services. Cathedral Choir is a musical experience that helps adolescents develop and enrich their own individual faith story.
URL:https://mtolivet.org/event/cathedral-choir-rehearsal/2025-09-17/
LOCATION:Minneapolis Campus\, 5025 Knox Avenue South\, Minneapolis\, Minnesota\, 55419
CATEGORIES:Music & Art,Youth (Grades 9-12)
ATTACH;FMTTYPE=image/png:https://mtolivet.org/wp-content/uploads/2025/05/Cathedral-Choir-Square_NEW-scaled.png
GEO:44.9116556;-93.3019923
X-APPLE-STRUCTURED-LOCATION;VALUE=URI;X-ADDRESS=Minneapolis Campus 5025 Knox Avenue South Minneapolis Minnesota 55419;X-APPLE-RADIUS=500;X-TITLE=5025 Knox Avenue South:geo:-93.3019923,44.9116556
END:VEVENT
BEGIN:VEVENT
DTSTART;TZID=America/Chicago:20250921T180000
DTEND;TZID=America/Chicago:20250921T190000
DTSTAMP:20260422T073401
CREATED:20240830T205718Z
LAST-MODIFIED:20250625T194933Z
UID:10001294-1758477600-1758481200@mtolivet.org
SUMMARY:Hi-League Stewardship
DESCRIPTION:Join your Pastors and Youth Staff for a special Stewardship Dinner specifically for 9th-12th grade Hi-League students. \nTransportation from the West Campus will leave at 5:15pm and returning at 7:30pm. Please reach out to Julia Jallo at jjallo@mtolivet.org if you’d like transportation.
URL:https://mtolivet.org/event/hi-league-stewardship/
LOCATION:Minneapolis Campus\, 5025 Knox Avenue South\, Minneapolis\, Minnesota\, 55419
CATEGORIES:Youth (Grades 9-12)
ATTACH;FMTTYPE=image/png:https://mtolivet.org/wp-content/uploads/2023/01/Hi-League.png
GEO:44.9116556;-93.3019923
X-APPLE-STRUCTURED-LOCATION;VALUE=URI;X-ADDRESS=Minneapolis Campus 5025 Knox Avenue South Minneapolis Minnesota 55419;X-APPLE-RADIUS=500;X-TITLE=5025 Knox Avenue South:geo:-93.3019923,44.9116556
END:VEVENT
BEGIN:VEVENT
DTSTART;TZID=America/Chicago:20250924T190000
DTEND;TZID=America/Chicago:20250924T201500
DTSTAMP:20260422T073401
CREATED:20250708T210027Z
LAST-MODIFIED:20250708T210311Z
UID:10001873-1758740400-1758744900@mtolivet.org
SUMMARY:Cathedral Choir Rehearsal
DESCRIPTION:High school-age singers from many different schools and musical backgrounds join together each week to sing and serve in this special choir that adds youthful energy to our worship services. Cathedral Choir is a musical experience that helps adolescents develop and enrich their own individual faith story.
URL:https://mtolivet.org/event/cathedral-choir-rehearsal/2025-09-24/
LOCATION:Minneapolis Campus\, 5025 Knox Avenue South\, Minneapolis\, Minnesota\, 55419
CATEGORIES:Music & Art,Youth (Grades 9-12)
ATTACH;FMTTYPE=image/png:https://mtolivet.org/wp-content/uploads/2025/05/Cathedral-Choir-Square_NEW-scaled.png
GEO:44.9116556;-93.3019923
X-APPLE-STRUCTURED-LOCATION;VALUE=URI;X-ADDRESS=Minneapolis Campus 5025 Knox Avenue South Minneapolis Minnesota 55419;X-APPLE-RADIUS=500;X-TITLE=5025 Knox Avenue South:geo:-93.3019923,44.9116556
END:VEVENT
BEGIN:VEVENT
DTSTART;VALUE=DATE:20250926
DTEND;VALUE=DATE:20250929
DTSTAMP:20260422T073401
CREATED:20220826T233605Z
LAST-MODIFIED:20250625T195735Z
UID:10000870-1758844800-1759103999@mtolivet.org
SUMMARY:Senior Retreat
DESCRIPTION:A special fall retreat up at camp! This weekend is filled with camp softball\, hikes\, devotions\, and a football game and shopping trip into Grand Marais! Transportation is from the Mpls Campus. Please contact Kris Ericksen at krise@mtolivet.org with questions about registration.
URL:https://mtolivet.org/event/senior-retreat/
LOCATION:Cathedral of the Pines\, 760 Caribou Trail\, Lutsen\, MN\, 55612\, United States
CATEGORIES:Youth (Grades 9-12)
ATTACH;FMTTYPE=image/png:https://mtolivet.org/wp-content/uploads/2022/08/LOGO-COP-Vertical-CMYK.png
GEO:47.6967428;-90.6625432
X-APPLE-STRUCTURED-LOCATION;VALUE=URI;X-ADDRESS=Cathedral of the Pines 760 Caribou Trail Lutsen MN 55612 United States;X-APPLE-RADIUS=500;X-TITLE=760 Caribou Trail:geo:-90.6625432,47.6967428
END:VEVENT
END:VCALENDAR