BEGIN:VCALENDAR
VERSION:2.0
PRODID:-//Mount Olivet - ECPv6.15.14//NONSGML v1.0//EN
CALSCALE:GREGORIAN
METHOD:PUBLISH
X-WR-CALNAME:Mount Olivet
X-ORIGINAL-URL:https://mtolivet.org
X-WR-CALDESC:Events for Mount Olivet
REFRESH-INTERVAL;VALUE=DURATION:PT1H
X-Robots-Tag:noindex
X-PUBLISHED-TTL:PT1H
BEGIN:VTIMEZONE
TZID:America/Chicago
BEGIN:DAYLIGHT
TZOFFSETFROM:-0600
TZOFFSETTO:-0500
TZNAME:CDT
DTSTART:20240310T080000
END:DAYLIGHT
BEGIN:STANDARD
TZOFFSETFROM:-0500
TZOFFSETTO:-0600
TZNAME:CST
DTSTART:20241103T070000
END:STANDARD
BEGIN:DAYLIGHT
TZOFFSETFROM:-0600
TZOFFSETTO:-0500
TZNAME:CDT
DTSTART:20250309T080000
END:DAYLIGHT
BEGIN:STANDARD
TZOFFSETFROM:-0500
TZOFFSETTO:-0600
TZNAME:CST
DTSTART:20251102T070000
END:STANDARD
BEGIN:DAYLIGHT
TZOFFSETFROM:-0600
TZOFFSETTO:-0500
TZNAME:CDT
DTSTART:20260308T080000
END:DAYLIGHT
BEGIN:STANDARD
TZOFFSETFROM:-0500
TZOFFSETTO:-0600
TZNAME:CST
DTSTART:20261101T070000
END:STANDARD
END:VTIMEZONE
BEGIN:VEVENT
DTSTART;TZID=America/Chicago:20250811T100000
DTEND;TZID=America/Chicago:20250811T160000
DTSTAMP:20260421T100327
CREATED:20220728T154554Z
LAST-MODIFIED:20250522T182807Z
UID:10000861-1754906400-1754928000@mtolivet.org
SUMMARY:JHA at Valleyfair!
DESCRIPTION:Are you a thrill seeker? Do you miss your friends you made at camp this summer? Are you excited to go back to choir\, confirmation\, and JHA service projects this fall?!? Join the Youth Staff on a trip to Valley Fair!!! Cost is $10 if you HAVE a Valley Fair Season Pass and $40 if you do NOT have a season pass. Transportation will be provided from both campuses. \nThis event is for all incoming 6th\, 7th\, and 8th graders.
URL:https://mtolivet.org/event/jha-at-valleyfair/
LOCATION:Valleyfair\, 1 Valley Fair Dr.\, Shakopee\, MN\, 55379\, United States
CATEGORIES:Youth (Grades 6-8)
ATTACH;FMTTYPE=image/png:https://mtolivet.org/wp-content/uploads/2022/07/VALLEY-FAIR-square.png
GEO:44.8004134;-93.4564059
X-APPLE-STRUCTURED-LOCATION;VALUE=URI;X-ADDRESS=Valleyfair 1 Valley Fair Dr. Shakopee MN 55379 United States;X-APPLE-RADIUS=500;X-TITLE=1 Valley Fair Dr.:geo:-93.4564059,44.8004134
END:VEVENT
END:VCALENDAR