BEGIN:VCALENDAR
VERSION:2.0
PRODID:-//Mount Olivet - ECPv6.15.14//NONSGML v1.0//EN
CALSCALE:GREGORIAN
METHOD:PUBLISH
X-WR-CALNAME:Mount Olivet
X-ORIGINAL-URL:https://mtolivet.org
X-WR-CALDESC:Events for Mount Olivet
REFRESH-INTERVAL;VALUE=DURATION:PT1H
X-Robots-Tag:noindex
X-PUBLISHED-TTL:PT1H
BEGIN:VTIMEZONE
TZID:America/Chicago
BEGIN:DAYLIGHT
TZOFFSETFROM:-0600
TZOFFSETTO:-0500
TZNAME:CDT
DTSTART:20250309T080000
END:DAYLIGHT
BEGIN:STANDARD
TZOFFSETFROM:-0500
TZOFFSETTO:-0600
TZNAME:CST
DTSTART:20251102T070000
END:STANDARD
BEGIN:DAYLIGHT
TZOFFSETFROM:-0600
TZOFFSETTO:-0500
TZNAME:CDT
DTSTART:20260308T080000
END:DAYLIGHT
BEGIN:STANDARD
TZOFFSETFROM:-0500
TZOFFSETTO:-0600
TZNAME:CST
DTSTART:20261101T070000
END:STANDARD
BEGIN:DAYLIGHT
TZOFFSETFROM:-0600
TZOFFSETTO:-0500
TZNAME:CDT
DTSTART:20270314T080000
END:DAYLIGHT
BEGIN:STANDARD
TZOFFSETFROM:-0500
TZOFFSETTO:-0600
TZNAME:CST
DTSTART:20271107T070000
END:STANDARD
END:VTIMEZONE
BEGIN:VEVENT
DTSTART;TZID=America/Chicago:20260422T174500
DTEND;TZID=America/Chicago:20260422T183000
DTSTAMP:20260420T045226
CREATED:20250708T202055Z
LAST-MODIFIED:20250708T210241Z
UID:10001868-1776879900-1776882600@mtolivet.org
SUMMARY:Chancel Choir Rehearsal
DESCRIPTION:Chancel Choir is offered at both the Minneapolis and West Campuses and is an excellent service opportunity for 6th\, 7th\, and 8th graders. Chancel Choir provides a unique opportunity for middle school-age youth to explore their faith\, build relationships with their peers and their faith community\, and develop confidence through singing. Chancel Choir performs during worship several times throughout the year.
URL:https://mtolivet.org/event/chancel-choir-rehearsal/2026-04-22/
LOCATION:Minneapolis & West Campus
CATEGORIES:Music & Art,Youth (Grades 6-8)
ATTACH;FMTTYPE=image/png:https://mtolivet.org/wp-content/uploads/2024/07/CHANCEL-CHOIR.png
END:VEVENT
BEGIN:VEVENT
DTSTART;TZID=America/Chicago:20260422T190000
DTEND;TZID=America/Chicago:20260422T201500
DTSTAMP:20260420T045226
CREATED:20250708T210027Z
LAST-MODIFIED:20250708T210311Z
UID:10001897-1776884400-1776888900@mtolivet.org
SUMMARY:Cathedral Choir Rehearsal
DESCRIPTION:High school-age singers from many different schools and musical backgrounds join together each week to sing and serve in this special choir that adds youthful energy to our worship services. Cathedral Choir is a musical experience that helps adolescents develop and enrich their own individual faith story.
URL:https://mtolivet.org/event/cathedral-choir-rehearsal/2026-04-22/
LOCATION:Minneapolis Campus\, 5025 Knox Avenue South\, Minneapolis\, Minnesota\, 55419
CATEGORIES:Music & Art,Youth (Grades 9-12)
ATTACH;FMTTYPE=image/png:https://mtolivet.org/wp-content/uploads/2025/05/Cathedral-Choir-Square_NEW-scaled.png
GEO:44.9116556;-93.3019923
X-APPLE-STRUCTURED-LOCATION;VALUE=URI;X-ADDRESS=Minneapolis Campus 5025 Knox Avenue South Minneapolis Minnesota 55419;X-APPLE-RADIUS=500;X-TITLE=5025 Knox Avenue South:geo:-93.3019923,44.9116556
END:VEVENT
BEGIN:VEVENT
DTSTART;TZID=America/Chicago:20260423T190000
DTEND;TZID=America/Chicago:20260423T203000
DTSTAMP:20260420T045226
CREATED:20250708T210846Z
LAST-MODIFIED:20250708T210910Z
UID:10001931-1776970800-1776976200@mtolivet.org
SUMMARY:Sanctuary Choir Rehearsal
DESCRIPTION:This musical group is a special community within our church family. With a desire to share God’s love through a variety of musical styles\, singers are a part of an ensemble that is known for performance excellence and inspirational musical contributions to worship. Sanctuary Choir is offered at both the Minneapolis and West Campuses and sings for the 11am service on most Sundays\, September through May. \nIf you have questions about the Sanctuary Choir\, please contact Beverly Claflin by email or at 612.767.2263.
URL:https://mtolivet.org/event/sanctuary-choir-rehearsal-2/2026-04-23/
LOCATION:Minneapolis Campus\, 5025 Knox Avenue South\, Minneapolis\, Minnesota\, 55419
CATEGORIES:Adult,Music & Art
ATTACH;FMTTYPE=image/png:https://mtolivet.org/wp-content/uploads/2024/07/Sanctuary-CHOIR.png
GEO:44.9116556;-93.3019923
X-APPLE-STRUCTURED-LOCATION;VALUE=URI;X-ADDRESS=Minneapolis Campus 5025 Knox Avenue South Minneapolis Minnesota 55419;X-APPLE-RADIUS=500;X-TITLE=5025 Knox Avenue South:geo:-93.3019923,44.9116556
END:VEVENT
BEGIN:VEVENT
DTSTART;TZID=America/Chicago:20260427T180000
DTEND;TZID=America/Chicago:20260427T200000
DTSTAMP:20260420T045226
CREATED:20251202T161810Z
LAST-MODIFIED:20251202T161810Z
UID:10003668-1777312800-1777320000@mtolivet.org
SUMMARY:Art Class: Paint Like Van Gogh's Sunflowers
DESCRIPTION:In this class\, you will create an acrylic painting of Van Gogh’s famous Sunflowers on an 8 x 10″ canvas. You will learn a bit of history about him and his style of painting as you follow step by step instructions. All materials are provided. \nTaught by Vanessa Merry\, Merry Time Arts \nLocation: Art Studio (room 486); Mount Olivet MPLS Campus \nMinimum Age: Middle School (please register with an adult if under 16)
URL:https://mtolivet.org/event/art-class-paint-like-van-goghs-sunflowers/
LOCATION:Minneapolis Campus\, 5025 Knox Avenue South\, Minneapolis\, Minnesota\, 55419
CATEGORIES:Music & Art
ATTACH;FMTTYPE=image/png:https://mtolivet.org/wp-content/uploads/2022/09/2022-Art-Classes-Generic-.png
GEO:44.9116556;-93.3019923
X-APPLE-STRUCTURED-LOCATION;VALUE=URI;X-ADDRESS=Minneapolis Campus 5025 Knox Avenue South Minneapolis Minnesota 55419;X-APPLE-RADIUS=500;X-TITLE=5025 Knox Avenue South:geo:-93.3019923,44.9116556
END:VEVENT
BEGIN:VEVENT
DTSTART;TZID=America/Chicago:20260429T190000
DTEND;TZID=America/Chicago:20260429T201500
DTSTAMP:20260420T045226
CREATED:20250708T210027Z
LAST-MODIFIED:20250708T210311Z
UID:10001898-1777489200-1777493700@mtolivet.org
SUMMARY:Cathedral Choir Rehearsal
DESCRIPTION:High school-age singers from many different schools and musical backgrounds join together each week to sing and serve in this special choir that adds youthful energy to our worship services. Cathedral Choir is a musical experience that helps adolescents develop and enrich their own individual faith story.
URL:https://mtolivet.org/event/cathedral-choir-rehearsal/2026-04-29/
LOCATION:Minneapolis Campus\, 5025 Knox Avenue South\, Minneapolis\, Minnesota\, 55419
CATEGORIES:Music & Art,Youth (Grades 9-12)
ATTACH;FMTTYPE=image/png:https://mtolivet.org/wp-content/uploads/2025/05/Cathedral-Choir-Square_NEW-scaled.png
GEO:44.9116556;-93.3019923
X-APPLE-STRUCTURED-LOCATION;VALUE=URI;X-ADDRESS=Minneapolis Campus 5025 Knox Avenue South Minneapolis Minnesota 55419;X-APPLE-RADIUS=500;X-TITLE=5025 Knox Avenue South:geo:-93.3019923,44.9116556
END:VEVENT
BEGIN:VEVENT
DTSTART;TZID=America/Chicago:20260430T190000
DTEND;TZID=America/Chicago:20260430T203000
DTSTAMP:20260420T045226
CREATED:20250708T210846Z
LAST-MODIFIED:20250708T210910Z
UID:10001932-1777575600-1777581000@mtolivet.org
SUMMARY:Sanctuary Choir Rehearsal
DESCRIPTION:This musical group is a special community within our church family. With a desire to share God’s love through a variety of musical styles\, singers are a part of an ensemble that is known for performance excellence and inspirational musical contributions to worship. Sanctuary Choir is offered at both the Minneapolis and West Campuses and sings for the 11am service on most Sundays\, September through May. \nIf you have questions about the Sanctuary Choir\, please contact Beverly Claflin by email or at 612.767.2263.
URL:https://mtolivet.org/event/sanctuary-choir-rehearsal-2/2026-04-30/
LOCATION:Minneapolis Campus\, 5025 Knox Avenue South\, Minneapolis\, Minnesota\, 55419
CATEGORIES:Adult,Music & Art
ATTACH;FMTTYPE=image/png:https://mtolivet.org/wp-content/uploads/2024/07/Sanctuary-CHOIR.png
GEO:44.9116556;-93.3019923
X-APPLE-STRUCTURED-LOCATION;VALUE=URI;X-ADDRESS=Minneapolis Campus 5025 Knox Avenue South Minneapolis Minnesota 55419;X-APPLE-RADIUS=500;X-TITLE=5025 Knox Avenue South:geo:-93.3019923,44.9116556
END:VEVENT
END:VCALENDAR