BEGIN:VCALENDAR
VERSION:2.0
PRODID:-//Mount Olivet - ECPv6.15.14//NONSGML v1.0//EN
CALSCALE:GREGORIAN
METHOD:PUBLISH
X-WR-CALNAME:Mount Olivet
X-ORIGINAL-URL:https://mtolivet.org
X-WR-CALDESC:Events for Mount Olivet
REFRESH-INTERVAL;VALUE=DURATION:PT1H
X-Robots-Tag:noindex
X-PUBLISHED-TTL:PT1H
BEGIN:VTIMEZONE
TZID:America/Chicago
BEGIN:DAYLIGHT
TZOFFSETFROM:-0600
TZOFFSETTO:-0500
TZNAME:CDT
DTSTART:20250309T080000
END:DAYLIGHT
BEGIN:STANDARD
TZOFFSETFROM:-0500
TZOFFSETTO:-0600
TZNAME:CST
DTSTART:20251102T070000
END:STANDARD
BEGIN:DAYLIGHT
TZOFFSETFROM:-0600
TZOFFSETTO:-0500
TZNAME:CDT
DTSTART:20260308T080000
END:DAYLIGHT
BEGIN:STANDARD
TZOFFSETFROM:-0500
TZOFFSETTO:-0600
TZNAME:CST
DTSTART:20261101T070000
END:STANDARD
BEGIN:DAYLIGHT
TZOFFSETFROM:-0600
TZOFFSETTO:-0500
TZNAME:CDT
DTSTART:20270314T080000
END:DAYLIGHT
BEGIN:STANDARD
TZOFFSETFROM:-0500
TZOFFSETTO:-0600
TZNAME:CST
DTSTART:20271107T070000
END:STANDARD
END:VTIMEZONE
BEGIN:VEVENT
DTSTART;TZID=America/Chicago:20260204T174500
DTEND;TZID=America/Chicago:20260204T183000
DTSTAMP:20260422T061223
CREATED:20250708T202055Z
LAST-MODIFIED:20250708T210241Z
UID:10001860-1770227100-1770229800@mtolivet.org
SUMMARY:Chancel Choir Rehearsal
DESCRIPTION:Chancel Choir is offered at both the Minneapolis and West Campuses and is an excellent service opportunity for 6th\, 7th\, and 8th graders. Chancel Choir provides a unique opportunity for middle school-age youth to explore their faith\, build relationships with their peers and their faith community\, and develop confidence through singing. Chancel Choir performs during worship several times throughout the year.
URL:https://mtolivet.org/event/chancel-choir-rehearsal/2026-02-04/
LOCATION:Minneapolis & West Campus
CATEGORIES:Music & Art,Youth (Grades 6-8)
ATTACH;FMTTYPE=image/png:https://mtolivet.org/wp-content/uploads/2024/07/CHANCEL-CHOIR.png
END:VEVENT
BEGIN:VEVENT
DTSTART;TZID=America/Chicago:20260204T190000
DTEND;TZID=America/Chicago:20260204T201500
DTSTAMP:20260422T061223
CREATED:20250708T210027Z
LAST-MODIFIED:20250708T210311Z
UID:10001887-1770231600-1770236100@mtolivet.org
SUMMARY:Cathedral Choir Rehearsal
DESCRIPTION:High school-age singers from many different schools and musical backgrounds join together each week to sing and serve in this special choir that adds youthful energy to our worship services. Cathedral Choir is a musical experience that helps adolescents develop and enrich their own individual faith story.
URL:https://mtolivet.org/event/cathedral-choir-rehearsal/2026-02-04/
LOCATION:Minneapolis Campus\, 5025 Knox Avenue South\, Minneapolis\, Minnesota\, 55419
CATEGORIES:Music & Art,Youth (Grades 9-12)
ATTACH;FMTTYPE=image/png:https://mtolivet.org/wp-content/uploads/2025/05/Cathedral-Choir-Square_NEW-scaled.png
GEO:44.9116556;-93.3019923
X-APPLE-STRUCTURED-LOCATION;VALUE=URI;X-ADDRESS=Minneapolis Campus 5025 Knox Avenue South Minneapolis Minnesota 55419;X-APPLE-RADIUS=500;X-TITLE=5025 Knox Avenue South:geo:-93.3019923,44.9116556
END:VEVENT
BEGIN:VEVENT
DTSTART;TZID=America/Chicago:20260205T190000
DTEND;TZID=America/Chicago:20260205T203000
DTSTAMP:20260422T061223
CREATED:20250708T210846Z
LAST-MODIFIED:20250708T210910Z
UID:10001921-1770318000-1770323400@mtolivet.org
SUMMARY:Sanctuary Choir Rehearsal
DESCRIPTION:This musical group is a special community within our church family. With a desire to share God’s love through a variety of musical styles\, singers are a part of an ensemble that is known for performance excellence and inspirational musical contributions to worship. Sanctuary Choir is offered at both the Minneapolis and West Campuses and sings for the 11am service on most Sundays\, September through May. \nIf you have questions about the Sanctuary Choir\, please contact Beverly Claflin by email or at 612.767.2263.
URL:https://mtolivet.org/event/sanctuary-choir-rehearsal-2/2026-02-05/
LOCATION:Minneapolis Campus\, 5025 Knox Avenue South\, Minneapolis\, Minnesota\, 55419
CATEGORIES:Adult,Music & Art
ATTACH;FMTTYPE=image/png:https://mtolivet.org/wp-content/uploads/2024/07/Sanctuary-CHOIR.png
GEO:44.9116556;-93.3019923
X-APPLE-STRUCTURED-LOCATION;VALUE=URI;X-ADDRESS=Minneapolis Campus 5025 Knox Avenue South Minneapolis Minnesota 55419;X-APPLE-RADIUS=500;X-TITLE=5025 Knox Avenue South:geo:-93.3019923,44.9116556
END:VEVENT
BEGIN:VEVENT
DTSTART;TZID=America/Chicago:20260211T174500
DTEND;TZID=America/Chicago:20260211T183000
DTSTAMP:20260422T061223
CREATED:20250708T202055Z
LAST-MODIFIED:20250708T210241Z
UID:10001861-1770831900-1770834600@mtolivet.org
SUMMARY:Chancel Choir Rehearsal
DESCRIPTION:Chancel Choir is offered at both the Minneapolis and West Campuses and is an excellent service opportunity for 6th\, 7th\, and 8th graders. Chancel Choir provides a unique opportunity for middle school-age youth to explore their faith\, build relationships with their peers and their faith community\, and develop confidence through singing. Chancel Choir performs during worship several times throughout the year.
URL:https://mtolivet.org/event/chancel-choir-rehearsal/2026-02-11/
LOCATION:Minneapolis & West Campus
CATEGORIES:Music & Art,Youth (Grades 6-8)
ATTACH;FMTTYPE=image/png:https://mtolivet.org/wp-content/uploads/2024/07/CHANCEL-CHOIR.png
END:VEVENT
BEGIN:VEVENT
DTSTART;TZID=America/Chicago:20260211T190000
DTEND;TZID=America/Chicago:20260211T201500
DTSTAMP:20260422T061223
CREATED:20250708T210027Z
LAST-MODIFIED:20250708T210311Z
UID:10001888-1770836400-1770840900@mtolivet.org
SUMMARY:Cathedral Choir Rehearsal
DESCRIPTION:High school-age singers from many different schools and musical backgrounds join together each week to sing and serve in this special choir that adds youthful energy to our worship services. Cathedral Choir is a musical experience that helps adolescents develop and enrich their own individual faith story.
URL:https://mtolivet.org/event/cathedral-choir-rehearsal/2026-02-11/
LOCATION:Minneapolis Campus\, 5025 Knox Avenue South\, Minneapolis\, Minnesota\, 55419
CATEGORIES:Music & Art,Youth (Grades 9-12)
ATTACH;FMTTYPE=image/png:https://mtolivet.org/wp-content/uploads/2025/05/Cathedral-Choir-Square_NEW-scaled.png
GEO:44.9116556;-93.3019923
X-APPLE-STRUCTURED-LOCATION;VALUE=URI;X-ADDRESS=Minneapolis Campus 5025 Knox Avenue South Minneapolis Minnesota 55419;X-APPLE-RADIUS=500;X-TITLE=5025 Knox Avenue South:geo:-93.3019923,44.9116556
END:VEVENT
BEGIN:VEVENT
DTSTART;TZID=America/Chicago:20260212T190000
DTEND;TZID=America/Chicago:20260212T203000
DTSTAMP:20260422T061223
CREATED:20250708T210846Z
LAST-MODIFIED:20250708T210910Z
UID:10001922-1770922800-1770928200@mtolivet.org
SUMMARY:Sanctuary Choir Rehearsal
DESCRIPTION:This musical group is a special community within our church family. With a desire to share God’s love through a variety of musical styles\, singers are a part of an ensemble that is known for performance excellence and inspirational musical contributions to worship. Sanctuary Choir is offered at both the Minneapolis and West Campuses and sings for the 11am service on most Sundays\, September through May. \nIf you have questions about the Sanctuary Choir\, please contact Beverly Claflin by email or at 612.767.2263.
URL:https://mtolivet.org/event/sanctuary-choir-rehearsal-2/2026-02-12/
LOCATION:Minneapolis Campus\, 5025 Knox Avenue South\, Minneapolis\, Minnesota\, 55419
CATEGORIES:Adult,Music & Art
ATTACH;FMTTYPE=image/png:https://mtolivet.org/wp-content/uploads/2024/07/Sanctuary-CHOIR.png
GEO:44.9116556;-93.3019923
X-APPLE-STRUCTURED-LOCATION;VALUE=URI;X-ADDRESS=Minneapolis Campus 5025 Knox Avenue South Minneapolis Minnesota 55419;X-APPLE-RADIUS=500;X-TITLE=5025 Knox Avenue South:geo:-93.3019923,44.9116556
END:VEVENT
BEGIN:VEVENT
DTSTART;TZID=America/Chicago:20260219T190000
DTEND;TZID=America/Chicago:20260219T203000
DTSTAMP:20260422T061223
CREATED:20250708T210846Z
LAST-MODIFIED:20250708T210910Z
UID:10001923-1771527600-1771533000@mtolivet.org
SUMMARY:Sanctuary Choir Rehearsal
DESCRIPTION:This musical group is a special community within our church family. With a desire to share God’s love through a variety of musical styles\, singers are a part of an ensemble that is known for performance excellence and inspirational musical contributions to worship. Sanctuary Choir is offered at both the Minneapolis and West Campuses and sings for the 11am service on most Sundays\, September through May. \nIf you have questions about the Sanctuary Choir\, please contact Beverly Claflin by email or at 612.767.2263.
URL:https://mtolivet.org/event/sanctuary-choir-rehearsal-2/2026-02-19/
LOCATION:Minneapolis Campus\, 5025 Knox Avenue South\, Minneapolis\, Minnesota\, 55419
CATEGORIES:Adult,Music & Art
ATTACH;FMTTYPE=image/png:https://mtolivet.org/wp-content/uploads/2024/07/Sanctuary-CHOIR.png
GEO:44.9116556;-93.3019923
X-APPLE-STRUCTURED-LOCATION;VALUE=URI;X-ADDRESS=Minneapolis Campus 5025 Knox Avenue South Minneapolis Minnesota 55419;X-APPLE-RADIUS=500;X-TITLE=5025 Knox Avenue South:geo:-93.3019923,44.9116556
END:VEVENT
BEGIN:VEVENT
DTSTART;TZID=America/Chicago:20260221T100000
DTEND;TZID=America/Chicago:20260221T104500
DTSTAMP:20260422T061223
CREATED:20250625T181255Z
LAST-MODIFIED:20260129T173145Z
UID:10001796-1771668000-1771670700@mtolivet.org
SUMMARY:Family Fika: Mozart for Kids
DESCRIPTION:See Mozart’s Magic Flute Opera come alive! Watch the story of a brave prince named Tamino\, who goes on a journey to rescue Princess Pamina\, the daughter of the powerful Queen of the Night. He’s helped by a funny bird-catcher named Papageno and a magical flute that can make people happy or calm. In the end\, good wins over evil\, and the story shows that love\, kindness\, being brave\, and smart can help us through the tough times.  \nAfter the concert\, treats and crafts will be available in the Fellowship Hall – join us!
URL:https://mtolivet.org/event/fika-music-series-mozarts-magic-flutes-for-kids/
LOCATION:Minneapolis Campus\, 5025 Knox Avenue South\, Minneapolis\, Minnesota\, 55419
CATEGORIES:Children & Family (Birth-Grade 5),Music & Art
ATTACH;FMTTYPE=image/png:https://mtolivet.org/wp-content/uploads/2025/06/2026-02-21-Fika-Music-Series-Square_Mozart.png
GEO:44.9116556;-93.3019923
X-APPLE-STRUCTURED-LOCATION;VALUE=URI;X-ADDRESS=Minneapolis Campus 5025 Knox Avenue South Minneapolis Minnesota 55419;X-APPLE-RADIUS=500;X-TITLE=5025 Knox Avenue South:geo:-93.3019923,44.9116556
END:VEVENT
BEGIN:VEVENT
DTSTART;TZID=America/Chicago:20260223T180000
DTEND;TZID=America/Chicago:20260223T200000
DTSTAMP:20260422T061223
CREATED:20251202T161124Z
LAST-MODIFIED:20251202T161457Z
UID:10003666-1771869600-1771876800@mtolivet.org
SUMMARY:Art Class: Winter Scene Palette Knife Painting
DESCRIPTION:Palette knife painting is a fun alternative to painting with a brush. In this class\, you will learn to create striking texture and effects as you create a beautiful painting on an 8 x 10″ inch canvas following step-by-step instructions. All materials are provided. \nTaught by Vanessa Merry\, Merry Time Arts \nLocation: Art Studio (room 486); Mount Olivet MPLS Campus \nMinimum Age: Middle School (please register with an adult if under 16)
URL:https://mtolivet.org/event/art-class-winter-scene-palette-knife-painting/
LOCATION:Minneapolis Campus\, 5025 Knox Avenue South\, Minneapolis\, Minnesota\, 55419
CATEGORIES:Music & Art
ATTACH;FMTTYPE=image/png:https://mtolivet.org/wp-content/uploads/2022/09/2022-Art-Classes-Generic-.png
GEO:44.9116556;-93.3019923
X-APPLE-STRUCTURED-LOCATION;VALUE=URI;X-ADDRESS=Minneapolis Campus 5025 Knox Avenue South Minneapolis Minnesota 55419;X-APPLE-RADIUS=500;X-TITLE=5025 Knox Avenue South:geo:-93.3019923,44.9116556
END:VEVENT
BEGIN:VEVENT
DTSTART;TZID=America/Chicago:20260225T174500
DTEND;TZID=America/Chicago:20260225T183000
DTSTAMP:20260422T061223
CREATED:20250708T202055Z
LAST-MODIFIED:20250708T210241Z
UID:10001862-1772041500-1772044200@mtolivet.org
SUMMARY:Chancel Choir Rehearsal
DESCRIPTION:Chancel Choir is offered at both the Minneapolis and West Campuses and is an excellent service opportunity for 6th\, 7th\, and 8th graders. Chancel Choir provides a unique opportunity for middle school-age youth to explore their faith\, build relationships with their peers and their faith community\, and develop confidence through singing. Chancel Choir performs during worship several times throughout the year.
URL:https://mtolivet.org/event/chancel-choir-rehearsal/2026-02-25/
LOCATION:Minneapolis & West Campus
CATEGORIES:Music & Art,Youth (Grades 6-8)
ATTACH;FMTTYPE=image/png:https://mtolivet.org/wp-content/uploads/2024/07/CHANCEL-CHOIR.png
END:VEVENT
BEGIN:VEVENT
DTSTART;TZID=America/Chicago:20260225T190000
DTEND;TZID=America/Chicago:20260225T201500
DTSTAMP:20260422T061223
CREATED:20250708T210027Z
LAST-MODIFIED:20250708T210311Z
UID:10001889-1772046000-1772050500@mtolivet.org
SUMMARY:Cathedral Choir Rehearsal
DESCRIPTION:High school-age singers from many different schools and musical backgrounds join together each week to sing and serve in this special choir that adds youthful energy to our worship services. Cathedral Choir is a musical experience that helps adolescents develop and enrich their own individual faith story.
URL:https://mtolivet.org/event/cathedral-choir-rehearsal/2026-02-25/
LOCATION:Minneapolis Campus\, 5025 Knox Avenue South\, Minneapolis\, Minnesota\, 55419
CATEGORIES:Music & Art,Youth (Grades 9-12)
ATTACH;FMTTYPE=image/png:https://mtolivet.org/wp-content/uploads/2025/05/Cathedral-Choir-Square_NEW-scaled.png
GEO:44.9116556;-93.3019923
X-APPLE-STRUCTURED-LOCATION;VALUE=URI;X-ADDRESS=Minneapolis Campus 5025 Knox Avenue South Minneapolis Minnesota 55419;X-APPLE-RADIUS=500;X-TITLE=5025 Knox Avenue South:geo:-93.3019923,44.9116556
END:VEVENT
BEGIN:VEVENT
DTSTART;TZID=America/Chicago:20260226T190000
DTEND;TZID=America/Chicago:20260226T203000
DTSTAMP:20260422T061223
CREATED:20250708T210846Z
LAST-MODIFIED:20250708T210910Z
UID:10001924-1772132400-1772137800@mtolivet.org
SUMMARY:Sanctuary Choir Rehearsal
DESCRIPTION:This musical group is a special community within our church family. With a desire to share God’s love through a variety of musical styles\, singers are a part of an ensemble that is known for performance excellence and inspirational musical contributions to worship. Sanctuary Choir is offered at both the Minneapolis and West Campuses and sings for the 11am service on most Sundays\, September through May. \nIf you have questions about the Sanctuary Choir\, please contact Beverly Claflin by email or at 612.767.2263.
URL:https://mtolivet.org/event/sanctuary-choir-rehearsal-2/2026-02-26/
LOCATION:Minneapolis Campus\, 5025 Knox Avenue South\, Minneapolis\, Minnesota\, 55419
CATEGORIES:Adult,Music & Art
ATTACH;FMTTYPE=image/png:https://mtolivet.org/wp-content/uploads/2024/07/Sanctuary-CHOIR.png
GEO:44.9116556;-93.3019923
X-APPLE-STRUCTURED-LOCATION;VALUE=URI;X-ADDRESS=Minneapolis Campus 5025 Knox Avenue South Minneapolis Minnesota 55419;X-APPLE-RADIUS=500;X-TITLE=5025 Knox Avenue South:geo:-93.3019923,44.9116556
END:VEVENT
END:VCALENDAR