BEGIN:VCALENDAR
VERSION:2.0
PRODID:-//Mount Olivet - ECPv6.15.14//NONSGML v1.0//EN
CALSCALE:GREGORIAN
METHOD:PUBLISH
X-WR-CALNAME:Mount Olivet
X-ORIGINAL-URL:https://mtolivet.org
X-WR-CALDESC:Events for Mount Olivet
REFRESH-INTERVAL;VALUE=DURATION:PT1H
X-Robots-Tag:noindex
X-PUBLISHED-TTL:PT1H
BEGIN:VTIMEZONE
TZID:America/Chicago
BEGIN:DAYLIGHT
TZOFFSETFROM:-0600
TZOFFSETTO:-0500
TZNAME:CDT
DTSTART:20240310T080000
END:DAYLIGHT
BEGIN:STANDARD
TZOFFSETFROM:-0500
TZOFFSETTO:-0600
TZNAME:CST
DTSTART:20241103T070000
END:STANDARD
BEGIN:DAYLIGHT
TZOFFSETFROM:-0600
TZOFFSETTO:-0500
TZNAME:CDT
DTSTART:20250309T080000
END:DAYLIGHT
BEGIN:STANDARD
TZOFFSETFROM:-0500
TZOFFSETTO:-0600
TZNAME:CST
DTSTART:20251102T070000
END:STANDARD
BEGIN:DAYLIGHT
TZOFFSETFROM:-0600
TZOFFSETTO:-0500
TZNAME:CDT
DTSTART:20260308T080000
END:DAYLIGHT
BEGIN:STANDARD
TZOFFSETFROM:-0500
TZOFFSETTO:-0600
TZNAME:CST
DTSTART:20261101T070000
END:STANDARD
END:VTIMEZONE
BEGIN:VEVENT
DTSTART;TZID=America/Chicago:20251104T090000
DTEND;TZID=America/Chicago:20251104T160000
DTSTAMP:20260422T035940
CREATED:20251015T190749Z
LAST-MODIFIED:20251016T192515Z
UID:10003361-1762246800-1762272000@mtolivet.org
SUMMARY:Mount Olivet Play Days - Good Times Park & More
DESCRIPTION:Join us on your school release day for a field trip to Good Times Indoor Park in Eagan plus on-site art projects & activities. Bring a nut-free lunch – snacks will be provided. \nPlay Day programming will run 9am-4pm. Extended day options are available beginning at 8:30am and ending at 4:30pm at no extra cost. Open to all Kindergarten through 5th grade students with a school release day\, including Minneapolis\, Edina\, Hopkins\, Carondelet\, and more.
URL:https://mtolivet.org/event/mount-olivet-play-days-good-times-park-more/
LOCATION:Minneapolis Campus\, 5025 Knox Avenue South\, Minneapolis\, Minnesota\, 55419
CATEGORIES:Children & Family (Birth-Grade 5)
ATTACH;FMTTYPE=image/jpeg:https://mtolivet.org/wp-content/uploads/2025/09/Mount-Olivet-Play-days.jpg
GEO:44.9116556;-93.3019923
X-APPLE-STRUCTURED-LOCATION;VALUE=URI;X-ADDRESS=Minneapolis Campus 5025 Knox Avenue South Minneapolis Minnesota 55419;X-APPLE-RADIUS=500;X-TITLE=5025 Knox Avenue South:geo:-93.3019923,44.9116556
END:VEVENT
BEGIN:VEVENT
DTSTART;TZID=America/Chicago:20251115T100000
DTEND;TZID=America/Chicago:20251115T104500
DTSTAMP:20260422T035940
CREATED:20250625T181023Z
LAST-MODIFIED:20251104T220758Z
UID:10001794-1763200800-1763203500@mtolivet.org
SUMMARY:Fika Music Series: Carnival of the Animals
DESCRIPTION:Step into a world where music paints pictures\, and animals spring to life through sound and storytelling! \nAfter the concert\, treats and crafts will be available in the Fellowship Hall – join us!
URL:https://mtolivet.org/event/fika-music-series-carnival-of-the-animals/
LOCATION:Minneapolis Campus\, 5025 Knox Avenue South\, Minneapolis\, Minnesota\, 55419
CATEGORIES:Children & Family (Birth-Grade 5),Music & Art
ATTACH;FMTTYPE=image/png:https://mtolivet.org/wp-content/uploads/2025/06/2025-11-15-Fika-Music-Series-Square_Carnival.png
GEO:44.9116556;-93.3019923
X-APPLE-STRUCTURED-LOCATION;VALUE=URI;X-ADDRESS=Minneapolis Campus 5025 Knox Avenue South Minneapolis Minnesota 55419;X-APPLE-RADIUS=500;X-TITLE=5025 Knox Avenue South:geo:-93.3019923,44.9116556
END:VEVENT
END:VCALENDAR