BEGIN:VCALENDAR
VERSION:2.0
PRODID:-//Mount Olivet - ECPv6.15.14//NONSGML v1.0//EN
CALSCALE:GREGORIAN
METHOD:PUBLISH
X-WR-CALNAME:Mount Olivet
X-ORIGINAL-URL:https://mtolivet.org
X-WR-CALDESC:Events for Mount Olivet
REFRESH-INTERVAL;VALUE=DURATION:PT1H
X-Robots-Tag:noindex
X-PUBLISHED-TTL:PT1H
BEGIN:VTIMEZONE
TZID:America/Chicago
BEGIN:DAYLIGHT
TZOFFSETFROM:-0600
TZOFFSETTO:-0500
TZNAME:CDT
DTSTART:20250309T080000
END:DAYLIGHT
BEGIN:STANDARD
TZOFFSETFROM:-0500
TZOFFSETTO:-0600
TZNAME:CST
DTSTART:20251102T070000
END:STANDARD
BEGIN:DAYLIGHT
TZOFFSETFROM:-0600
TZOFFSETTO:-0500
TZNAME:CDT
DTSTART:20260308T080000
END:DAYLIGHT
BEGIN:STANDARD
TZOFFSETFROM:-0500
TZOFFSETTO:-0600
TZNAME:CST
DTSTART:20261101T070000
END:STANDARD
BEGIN:DAYLIGHT
TZOFFSETFROM:-0600
TZOFFSETTO:-0500
TZNAME:CDT
DTSTART:20270314T080000
END:DAYLIGHT
BEGIN:STANDARD
TZOFFSETFROM:-0500
TZOFFSETTO:-0600
TZNAME:CST
DTSTART:20271107T070000
END:STANDARD
END:VTIMEZONE
BEGIN:VEVENT
DTSTART;TZID=America/Chicago:20260423T103000
DTEND;TZID=America/Chicago:20260423T113000
DTSTAMP:20260423T100738
CREATED:20260210T201809Z
LAST-MODIFIED:20260210T201809Z
UID:10004360-1776940200-1776943800@mtolivet.org
SUMMARY:"I AM”: Jesus in John’s Gospel - West Campus
DESCRIPTION:In the Gospel of John\, Jesus speaks some of the most beautiful and provocative words in all of Scripture\, each beginning with the phrase “I AM.” These short declarations are far more than spiritual metaphors or memorable one-liners. They are windows into Jesus’ identity\, the heart of his mission\, and the kind of life he has come to give us.  \nOver four weeks\, we will examine the function of the “I AM” statements in the Gospel of John. We will linger with specific “I AM” statements as John presents them: bread of life\, good shepherd\, and true vine. Each image is grounded in ordinary human need—hunger\, fear\, loss\, longing\, belonging\, guidance\, and hope—yet each opens outward into the mystery of who Jesus is. In John’s Gospel\, Jesus does not merely bring help from God; he is God’s power and presence dwelling among us. He comes to recreate and redeem\, to liberate us from sin and death\, and to restore what is fragmented within us and between us.  \nTogether we will explore how the “I AM” statements invite us into a living relationship with Christ—one that is both deeply personal and world-transforming. This is not simply a class about titles for Jesus; it is an invitation to hear and see the One who meets us in our humanity and draws us into abundant life.  \nCome ready to read closely\, reflect prayerfully\, and listen for Jesus’ voice speaking into our lives today: I am. 
URL:https://mtolivet.org/event/i-am-jesus-in-johns-gospel-west-campus/2026-04-23/
LOCATION:West Campus\, 7150 Rolling Acres Road\, Victoria\, Minnesota\, 55386
CATEGORIES:Adult
ATTACH;FMTTYPE=image/png:https://mtolivet.org/wp-content/uploads/2026/02/I-AM-Jesus-in-Johns-Gospel.png
GEO:44.8763766;-93.6426023
X-APPLE-STRUCTURED-LOCATION;VALUE=URI;X-ADDRESS=West Campus 7150 Rolling Acres Road Victoria Minnesota 55386;X-APPLE-RADIUS=500;X-TITLE=7150 Rolling Acres Road:geo:-93.6426023,44.8763766
END:VEVENT
BEGIN:VEVENT
DTSTART;TZID=America/Chicago:20260423T184500
DTEND;TZID=America/Chicago:20260423T210000
DTSTAMP:20260423T100738
CREATED:20250321T165824Z
LAST-MODIFIED:20260325T145624Z
UID:10001291-1776969900-1776978000@mtolivet.org
SUMMARY:Flying Solo: MIA's Art in Bloom
DESCRIPTION:Join Flying Solo at the Minneapolis Institute of Art for a guided tour of the annual celebration of the arts and flowers\, presented by the Friends of the Institute. After the tour\, we will grab a bite to eat at a nearby restaurant.
URL:https://mtolivet.org/event/flying-solo-mias-art-in-bloom/
LOCATION:Minneapolis Institute of Art\, 3rd Avenue South\, Minneapolis\, MN\, 55404\, United States
CATEGORIES:Adult
ATTACH;FMTTYPE=image/png:https://mtolivet.org/wp-content/uploads/2024/06/Flying-Solo-Square.png
GEO:44.958589;-93.2742238
X-APPLE-STRUCTURED-LOCATION;VALUE=URI;X-ADDRESS=Minneapolis Institute of Art 3rd Avenue South Minneapolis MN 55404 United States;X-APPLE-RADIUS=500;X-TITLE=3rd Avenue South:geo:-93.2742238,44.958589
END:VEVENT
BEGIN:VEVENT
DTSTART;TZID=America/Chicago:20260423T190000
DTEND;TZID=America/Chicago:20260423T203000
DTSTAMP:20260423T100738
CREATED:20250708T210846Z
LAST-MODIFIED:20250708T210910Z
UID:10001931-1776970800-1776976200@mtolivet.org
SUMMARY:Sanctuary Choir Rehearsal
DESCRIPTION:This musical group is a special community within our church family. With a desire to share God’s love through a variety of musical styles\, singers are a part of an ensemble that is known for performance excellence and inspirational musical contributions to worship. Sanctuary Choir is offered at both the Minneapolis and West Campuses and sings for the 11am service on most Sundays\, September through May. \nIf you have questions about the Sanctuary Choir\, please contact Beverly Claflin by email or at 612.767.2263.
URL:https://mtolivet.org/event/sanctuary-choir-rehearsal-2/2026-04-23/
LOCATION:Minneapolis Campus\, 5025 Knox Avenue South\, Minneapolis\, Minnesota\, 55419
CATEGORIES:Adult,Music & Art
ATTACH;FMTTYPE=image/png:https://mtolivet.org/wp-content/uploads/2024/07/Sanctuary-CHOIR.png
GEO:44.9116556;-93.3019923
X-APPLE-STRUCTURED-LOCATION;VALUE=URI;X-ADDRESS=Minneapolis Campus 5025 Knox Avenue South Minneapolis Minnesota 55419;X-APPLE-RADIUS=500;X-TITLE=5025 Knox Avenue South:geo:-93.3019923,44.9116556
END:VEVENT
BEGIN:VEVENT
DTSTART;TZID=America/Chicago:20260429T103000
DTEND;TZID=America/Chicago:20260429T113000
DTSTAMP:20260423T100738
CREATED:20260210T201735Z
LAST-MODIFIED:20260210T201735Z
UID:10004353-1777458600-1777462200@mtolivet.org
SUMMARY:"I AM”: Jesus in John’s Gospel - Mpls Campus
DESCRIPTION:In the Gospel of John\, Jesus speaks some of the most beautiful and provocative words in all of Scripture\, each beginning with the phrase “I AM.” These short declarations are far more than spiritual metaphors or memorable one-liners. They are windows into Jesus’ identity\, the heart of his mission\, and the kind of life he has come to give us.  \nOver four weeks\, we will examine the function of the “I AM” statements in the Gospel of John. We will linger with specific “I AM” statements as John presents them: bread of life\, good shepherd\, and true vine. Each image is grounded in ordinary human need—hunger\, fear\, loss\, longing\, belonging\, guidance\, and hope—yet each opens outward into the mystery of who Jesus is. In John’s Gospel\, Jesus does not merely bring help from God; he is God’s power and presence dwelling among us. He comes to recreate and redeem\, to liberate us from sin and death\, and to restore what is fragmented within us and between us.  \nTogether we will explore how the “I AM” statements invite us into a living relationship with Christ—one that is both deeply personal and world-transforming. This is not simply a class about titles for Jesus; it is an invitation to hear and see the One who meets us in our humanity and draws us into abundant life.  \nCome ready to read closely\, reflect prayerfully\, and listen for Jesus’ voice speaking into our lives today: I am. 
URL:https://mtolivet.org/event/i-am-jesus-in-johns-gospel-mpls-campus/2026-04-29/
LOCATION:Minneapolis Campus\, 5025 Knox Avenue South\, Minneapolis\, Minnesota\, 55419
CATEGORIES:Adult
ATTACH;FMTTYPE=image/png:https://mtolivet.org/wp-content/uploads/2026/02/I-AM-Jesus-in-Johns-Gospel.png
GEO:44.9116556;-93.3019923
X-APPLE-STRUCTURED-LOCATION;VALUE=URI;X-ADDRESS=Minneapolis Campus 5025 Knox Avenue South Minneapolis Minnesota 55419;X-APPLE-RADIUS=500;X-TITLE=5025 Knox Avenue South:geo:-93.3019923,44.9116556
END:VEVENT
BEGIN:VEVENT
DTSTART;TZID=America/Chicago:20260430T103000
DTEND;TZID=America/Chicago:20260430T113000
DTSTAMP:20260423T100738
CREATED:20260210T201809Z
LAST-MODIFIED:20260210T201809Z
UID:10004361-1777545000-1777548600@mtolivet.org
SUMMARY:"I AM”: Jesus in John’s Gospel - West Campus
DESCRIPTION:In the Gospel of John\, Jesus speaks some of the most beautiful and provocative words in all of Scripture\, each beginning with the phrase “I AM.” These short declarations are far more than spiritual metaphors or memorable one-liners. They are windows into Jesus’ identity\, the heart of his mission\, and the kind of life he has come to give us.  \nOver four weeks\, we will examine the function of the “I AM” statements in the Gospel of John. We will linger with specific “I AM” statements as John presents them: bread of life\, good shepherd\, and true vine. Each image is grounded in ordinary human need—hunger\, fear\, loss\, longing\, belonging\, guidance\, and hope—yet each opens outward into the mystery of who Jesus is. In John’s Gospel\, Jesus does not merely bring help from God; he is God’s power and presence dwelling among us. He comes to recreate and redeem\, to liberate us from sin and death\, and to restore what is fragmented within us and between us.  \nTogether we will explore how the “I AM” statements invite us into a living relationship with Christ—one that is both deeply personal and world-transforming. This is not simply a class about titles for Jesus; it is an invitation to hear and see the One who meets us in our humanity and draws us into abundant life.  \nCome ready to read closely\, reflect prayerfully\, and listen for Jesus’ voice speaking into our lives today: I am. 
URL:https://mtolivet.org/event/i-am-jesus-in-johns-gospel-west-campus/2026-04-30/
LOCATION:West Campus\, 7150 Rolling Acres Road\, Victoria\, Minnesota\, 55386
CATEGORIES:Adult
ATTACH;FMTTYPE=image/png:https://mtolivet.org/wp-content/uploads/2026/02/I-AM-Jesus-in-Johns-Gospel.png
GEO:44.8763766;-93.6426023
X-APPLE-STRUCTURED-LOCATION;VALUE=URI;X-ADDRESS=West Campus 7150 Rolling Acres Road Victoria Minnesota 55386;X-APPLE-RADIUS=500;X-TITLE=7150 Rolling Acres Road:geo:-93.6426023,44.8763766
END:VEVENT
BEGIN:VEVENT
DTSTART;TZID=America/Chicago:20260430T190000
DTEND;TZID=America/Chicago:20260430T203000
DTSTAMP:20260423T100738
CREATED:20250708T210846Z
LAST-MODIFIED:20250708T210910Z
UID:10001932-1777575600-1777581000@mtolivet.org
SUMMARY:Sanctuary Choir Rehearsal
DESCRIPTION:This musical group is a special community within our church family. With a desire to share God’s love through a variety of musical styles\, singers are a part of an ensemble that is known for performance excellence and inspirational musical contributions to worship. Sanctuary Choir is offered at both the Minneapolis and West Campuses and sings for the 11am service on most Sundays\, September through May. \nIf you have questions about the Sanctuary Choir\, please contact Beverly Claflin by email or at 612.767.2263.
URL:https://mtolivet.org/event/sanctuary-choir-rehearsal-2/2026-04-30/
LOCATION:Minneapolis Campus\, 5025 Knox Avenue South\, Minneapolis\, Minnesota\, 55419
CATEGORIES:Adult,Music & Art
ATTACH;FMTTYPE=image/png:https://mtolivet.org/wp-content/uploads/2024/07/Sanctuary-CHOIR.png
GEO:44.9116556;-93.3019923
X-APPLE-STRUCTURED-LOCATION;VALUE=URI;X-ADDRESS=Minneapolis Campus 5025 Knox Avenue South Minneapolis Minnesota 55419;X-APPLE-RADIUS=500;X-TITLE=5025 Knox Avenue South:geo:-93.3019923,44.9116556
END:VEVENT
END:VCALENDAR